BEGIN:VCALENDAR
VERSION:2.0
PRODID:-//Madame Maïmouna DIEYE - ECPv6.15.18//NONSGML v1.0//EN
CALSCALE:GREGORIAN
METHOD:PUBLISH
X-ORIGINAL-URL:https://maimounadieye.com
X-WR-CALDESC:Évènements pour Madame Maïmouna DIEYE
REFRESH-INTERVAL;VALUE=DURATION:PT1H
X-Robots-Tag:noindex
X-PUBLISHED-TTL:PT1H
BEGIN:VTIMEZONE
TZID:UTC
BEGIN:STANDARD
TZOFFSETFROM:+0000
TZOFFSETTO:+0000
TZNAME:UTC
DTSTART:20240101T000000
END:STANDARD
END:VTIMEZONE
BEGIN:VEVENT
DTSTART;TZID=UTC:20251218T100000
DTEND;TZID=UTC:20261220T153000
DTSTAMP:20260422T000633
CREATED:20171213T134523Z
LAST-MODIFIED:20251229T012825Z
UID:394-1766052000-1797780600@maimounadieye.com
SUMMARY:Partage sur l'étude diagnostique et l'avant-projet de loi
DESCRIPTION:Atelier national de partage et de consolidation du rapport de l’étude diagnostique et de l’avant-projet de loi sur l’autonomisation économique des femmes au Sénégal
URL:https://maimounadieye.com/event/the-annual-medicine-meetings/
LOCATION:King Fahd Palace
CATEGORIES:World Politics
ATTACH;FMTTYPE=image/jpeg:https://maimounadieye.com/wp-content/uploads/2017/12/599950226_1238479378462454_3697930971214952645_n.jpg
END:VEVENT
END:VCALENDAR